BEGIN:VCALENDAR
VERSION:2.0
PRODID:-//Palm Springs International Food and Wine Festival - ECPv6.15.20//NONSGML v1.0//EN
CALSCALE:GREGORIAN
METHOD:PUBLISH
X-WR-CALNAME:Palm Springs International Food and Wine Festival
X-ORIGINAL-URL:https://palmspringsfoodandwine.org
X-WR-CALDESC:Events for Palm Springs International Food and Wine Festival
REFRESH-INTERVAL;VALUE=DURATION:PT1H
X-Robots-Tag:noindex
X-PUBLISHED-TTL:PT1H
BEGIN:VTIMEZONE
TZID:America/Los_Angeles
BEGIN:DAYLIGHT
TZOFFSETFROM:-0800
TZOFFSETTO:-0700
TZNAME:PDT
DTSTART:20240310T100000
END:DAYLIGHT
BEGIN:STANDARD
TZOFFSETFROM:-0700
TZOFFSETTO:-0800
TZNAME:PST
DTSTART:20241103T090000
END:STANDARD
BEGIN:DAYLIGHT
TZOFFSETFROM:-0800
TZOFFSETTO:-0700
TZNAME:PDT
DTSTART:20250309T100000
END:DAYLIGHT
BEGIN:STANDARD
TZOFFSETFROM:-0700
TZOFFSETTO:-0800
TZNAME:PST
DTSTART:20251102T090000
END:STANDARD
BEGIN:DAYLIGHT
TZOFFSETFROM:-0800
TZOFFSETTO:-0700
TZNAME:PDT
DTSTART:20260308T100000
END:DAYLIGHT
BEGIN:STANDARD
TZOFFSETFROM:-0700
TZOFFSETTO:-0800
TZNAME:PST
DTSTART:20261101T090000
END:STANDARD
END:VTIMEZONE
BEGIN:VEVENT
DTSTART;TZID=America/Los_Angeles:20251114T180000
DTEND;TZID=America/Los_Angeles:20251114T200000
DTSTAMP:20260422T070627
CREATED:20251006T124603Z
LAST-MODIFIED:20251019T065808Z
UID:7239-1763143200-1763150400@palmspringsfoodandwine.org
SUMMARY:Celebrity Chef Reception
DESCRIPTION:
URL:https://palmspringsfoodandwine.org/event/celebrity-chef-reception/
LOCATION:Avalon Palm Springs\, 415 Belardo Road\, Palm Springs\, CA\, 92262\, United States
ATTACH;FMTTYPE=image/jpeg:https://palmspringsfoodandwine.org/wp-content/uploads/2025/10/193385949.jpg
ORGANIZER;CN="Hocker Productions":MAILTO:jeffhocker1@gmail.com
END:VEVENT
END:VCALENDAR